BEGIN:VCALENDAR
VERSION:2.0
PRODID:-//Columbus Free Clinic - ECPv6.15.20//NONSGML v1.0//EN
CALSCALE:GREGORIAN
METHOD:PUBLISH
X-WR-CALNAME:Columbus Free Clinic
X-ORIGINAL-URL:https://columbusfreeclinic.com
X-WR-CALDESC:Events for Columbus Free Clinic
REFRESH-INTERVAL;VALUE=DURATION:PT1H
X-Robots-Tag:noindex
X-PUBLISHED-TTL:PT1H
BEGIN:VTIMEZONE
TZID:America/New_York
BEGIN:DAYLIGHT
TZOFFSETFROM:-0500
TZOFFSETTO:-0400
TZNAME:EDT
DTSTART:20220313T070000
END:DAYLIGHT
BEGIN:STANDARD
TZOFFSETFROM:-0400
TZOFFSETTO:-0500
TZNAME:EST
DTSTART:20221106T060000
END:STANDARD
BEGIN:DAYLIGHT
TZOFFSETFROM:-0500
TZOFFSETTO:-0400
TZNAME:EDT
DTSTART:20230312T070000
END:DAYLIGHT
BEGIN:STANDARD
TZOFFSETFROM:-0400
TZOFFSETTO:-0500
TZNAME:EST
DTSTART:20231105T060000
END:STANDARD
BEGIN:DAYLIGHT
TZOFFSETFROM:-0500
TZOFFSETTO:-0400
TZNAME:EDT
DTSTART:20240310T070000
END:DAYLIGHT
BEGIN:STANDARD
TZOFFSETFROM:-0400
TZOFFSETTO:-0500
TZNAME:EST
DTSTART:20241103T060000
END:STANDARD
END:VTIMEZONE
BEGIN:VEVENT
DTSTART;VALUE=DATE:20231116
DTEND;VALUE=DATE:20231117
DTSTAMP:20260422T195505
CREATED:20220929T040440Z
LAST-MODIFIED:20231116T143458Z
UID:1926-1700092800-1700179199@columbusfreeclinic.com
SUMMARY:Psychiatry Clinic
DESCRIPTION:
URL:https://columbusfreeclinic.com/event/psychiatry-clinic-27/
LOCATION:OH
END:VEVENT
BEGIN:VEVENT
DTSTART;VALUE=DATE:20231116
DTEND;VALUE=DATE:20231117
DTSTAMP:20260422T195505
CREATED:20220929T040441Z
LAST-MODIFIED:20220929T040441Z
UID:1932-1700092800-1700179199@columbusfreeclinic.com
SUMMARY:Psychiatry Clinic
DESCRIPTION:
URL:https://columbusfreeclinic.com/event/psychiatry-clinic-28/
LOCATION:OH
END:VEVENT
BEGIN:VEVENT
DTSTART;VALUE=DATE:20231116
DTEND;VALUE=DATE:20231117
DTSTAMP:20260422T195505
CREATED:20230803T105542Z
LAST-MODIFIED:20231116T143457Z
UID:2850-1700092800-1700179199@columbusfreeclinic.com
SUMMARY:Ultrasound Clinic
DESCRIPTION:
URL:https://columbusfreeclinic.com/event/ultrasound-clinic-2/
LOCATION:OH
END:VEVENT
BEGIN:VEVENT
DTSTART;TZID=America/New_York:20231116T173000
DTEND;TZID=America/New_York:20231116T220000
DTSTAMP:20260422T195505
CREATED:20220929T040440Z
LAST-MODIFIED:20231116T143458Z
UID:1929-1700155800-1700172000@columbusfreeclinic.com
SUMMARY:Clinic Night
DESCRIPTION:
URL:https://columbusfreeclinic.com/event/clinic-night-114/
LOCATION:2231 N High St\, Columbus\, OH\, United States
END:VEVENT
BEGIN:VEVENT
DTSTART;TZID=America/New_York:20231116T173000
DTEND;TZID=America/New_York:20231116T220000
DTSTAMP:20260422T195505
CREATED:20220929T040441Z
LAST-MODIFIED:20220929T040441Z
UID:1934-1700155800-1700172000@columbusfreeclinic.com
SUMMARY:Clinic Night
DESCRIPTION:
URL:https://columbusfreeclinic.com/event/clinic-night-117/
LOCATION:2231 N High St\, Columbus\, OH 43201\, USA
END:VEVENT
END:VCALENDAR